BEGIN:VCALENDAR
VERSION:2.0
PRODID:-//360 Alumni//FoodCorps//EN
METHOD:REQUEST
BEGIN:VEVENT
UID:10328
DTSTAMP:20231011T200000Z
DTSTART:20231011T200000Z
DTEND:20231011T210000Z
LOCATION:online event
SUMMARY: Alumni Tea Time
DESCRIPTION: Are you looking to connect with fellow FoodCorps alumni across the country and learn more about our new alumni strategy inspired by our 2030 goal of all kids having access to food education and nourishing meals in schools? Do you love having a warm beverage to welcome the start of the fall season? If your answer is yes to either of these questions, please join the FoodCorps leadership development team for an Alumni Tea Time on Wednesday October 11th at 4PM EST / 3PM CST / 2PM MDT / 1PM PST! If you have any questions about this event please reach out to malaika.simmons@foodcorps.org.Register here!
END:VEVENT
END:VCALENDAR
