BEGIN:VCALENDAR
VERSION:2.0
PRODID:-//360 Alumni//FoodCorps//EN
METHOD:REQUEST
BEGIN:VEVENT
UID:10538
DTSTAMP:20240131T050000Z
DTSTART:20240131T050000Z
DTEND:20240331T040000Z
LOCATION:online event
SUMMARY: Land for Good Workshops
DESCRIPTION: Land For Good has a bunch of upcoming winter workshops for New England farmers and landowners and we&rsquo;d appreciate it if you could help spread the word. Workshop topics include:Learning how to acquire a farmStarting a farm succession planMaking land available for farmingMore information about the workshops can be found here: https://landforgood.org/news-events/training/&nbsp;
END:VEVENT
END:VCALENDAR
