BEGIN:VCALENDAR
VERSION:2.0
PRODID:-//360 Alumni//FoodCorps//EN
METHOD:REQUEST
BEGIN:VEVENT
UID:10539
DTSTAMP:20240625T040000Z
DTSTART:20240625T040000Z
DTEND:20240627T040000Z
LOCATION:Shelbourne Farms
SUMMARY: Northeast Farm to School Institute
DESCRIPTION: The Northeast Farm to School Institute is a unique, year-long professional learning opportunity for select school, early childhood &amp; district teams from New England &amp; New York.Whether you&rsquo;re a long-time farm to school advocate or looking to begin integrating food, farm, and nutrition programs into your school community, you&rsquo;re invited to form a team and apply. The Institute kicks off this summer at Shelburne Farms with an action planning retreat June 25&ndash;27, 2024.Spend the retreat developing a farm to school action plan with your team, networking with other schools from across the Northeast, and taking part in educator and school nutrition staff specific professional learning.Applications are due Monday, February 12, 2024. Notifications of team selections will be made late February 2024.
END:VEVENT
END:VCALENDAR
