BEGIN:VCALENDAR
VERSION:2.0
PRODID:-//360 Alumni//FoodCorps//EN
METHOD:REQUEST
BEGIN:VEVENT
UID:10541
DTSTAMP:20240215T080000Z
DTSTART:20240215T080000Z
DTEND:20240216T080000Z
LOCATION:OSU Convention Center
SUMMARY: 2024 Oregon Farm to School Conference
DESCRIPTION: The purpose of the Conference is to support members of Oregon&rsquo;s farm to school and school garden community in their work to provide farm and garden-based education and incorporate healthy, local food into school meals for students grades PreK-12.Our audience is food service directors and staff, farmers/producers, distributors, enrichment instructors, OSU Extension staff and volunteers, classroom teachers, school administrators, government agency staff, non-profit staff, and parents and community volunteers and others working to support Oregon&rsquo;s farm to school and school garden programs.The Conference is held every two years.
END:VEVENT
END:VCALENDAR
