BEGIN:VCALENDAR
VERSION:2.0
PRODID:-//360 Alumni//FoodCorps//EN
METHOD:REQUEST
BEGIN:VEVENT
UID:10545
DTSTAMP:20240205T050000Z
DTSTART:20240205T050000Z
DTEND:20240205T050000Z
LOCATION:online event
SUMMARY: 2024 Food System Leadership Network Mentorship Program
DESCRIPTION: The Wallace Center is now accepting applications for the Spring 2024 round of the Food System Leadership Network Mentorship Program https://foodsystemsleadershipnetwork.org/opportunities/leadership-development/mentorship-program/Now in its eighth round, the Community Food Systems Mentorship Program provides food systems leaders with the opportunity to closely engage with proven leaders and experts as thought partners and coaches. Applications open through Feb 5th!Whether you are just embarking on your journey into food systems or are contemplating and considering your future in this field, the exchange of ideas and experience with a dedicated mentor can influence you on profound levels and stay with you for years. Having a trusted partner to provide professional guidance and support, serve as a sounding board, and build connections in the food movement can be incredibly beneficial.The goals of this program are to:Build relationships of solidarity and support across the food movement,Create a space for leaders with significant experience in community food systems to share their wisdom, knowledge, and expertise with others, and toStrengthen the leadership capacity of food systems leaders&nbsp;
END:VEVENT
END:VCALENDAR
