BEGIN:VCALENDAR
VERSION:2.0
PRODID:-//360 Alumni//FoodCorps//EN
METHOD:REQUEST
BEGIN:VEVENT
UID:10548
DTSTAMP:20240207T230000Z
DTSTART:20240207T230000Z
DTEND:20240208T000000Z
LOCATION:Grand Hall at Union Station Hotel
SUMMARY: 2024 Midwest & Southern Regions Mid-Year Gathering Alumni Mixer
DESCRIPTION: Join fellow FoodCorps Alumni and Staff at a regional mixer to connect with one another!
END:VEVENT
END:VCALENDAR
