BEGIN:VCALENDAR
VERSION:2.0
PRODID:-//360 Alumni//FoodCorps//EN
METHOD:REQUEST
BEGIN:VEVENT
UID:10568
DTSTAMP:20240213T050000Z
DTSTART:20240213T050000Z
DTEND:20240331T040000Z
LOCATION:online event
SUMMARY: 2024 Peer Learning Circles
DESCRIPTION: Are you a woman farmer new to managing employees on your farm?&nbsp;Maybe you are thinking about expanding and hiring staff for the first time next season?Or perhaps you have hired staff for years and are looking for fresh ideas for managing your team?Are you looking for a safe place to process your last season, what you learned and what you&rsquo;ll do differently managing staff this next season?You&rsquo;re invited to participate in a unique, virtual collaborative learning environment for woman-identifying farmers to connect and share challenges and opportunities at this crucial stage in farm growth. These women-centered &ldquo;Learning Circles&rdquo; are based on a peer-based learning model that brings together small groups to share and learn from each other. Refreshingly different from typical webinar lecture formats, these participatory sessions provide space for farmers lively discussion, support, and to learn from each other's successes and challenges.2024 Learning Circle TopicsCommunication &amp; Expectations:&nbsp; How to create a flourishing farm culture &amp; employer-employee relationshipsTraining &amp; Delegation: How to give direction and feedbackProductive Conflict: How to mediate difficult conversations across gender, family and cultural differencesSign up for which month works best with your schedule and plan to attend all three. Space is limited to keep the groups small and interactive. All sessions will be held via Zoom from 12-1:15 EST.&nbsp;Option 1&nbsp;Option 2&nbsp;Option 3&nbsp;Tues 2/27&nbsp;Wed 2/28&nbsp;Thurs 2/29&nbsp;Tues 3/12&nbsp;Wed 3/13&nbsp;Thurs 3/14&nbsp;Tues 3/26&nbsp;Wed 3/27&nbsp;Thurs 3/28&nbsp;
END:VEVENT
END:VCALENDAR
