BEGIN:VCALENDAR
VERSION:2.0
PRODID:-//360 Alumni//FoodCorps//EN
METHOD:REQUEST
BEGIN:VEVENT
UID:10569
DTSTAMP:20240213T050000Z
DTSTART:20240213T050000Z
DTEND:20240213T050000Z
LOCATION:online event
SUMMARY: Free Masterclass: Grant Writing 101
DESCRIPTION: https://www.greatergoodfunds.com/grantwriting101Imagine hearing your email inbox ding. Then you see the subject line that says, "Congratulations, your grant is approved!"The best feeling is when the funding arrives in your bank account, and now you are finally able to put those resources towards your transformational programs.You are a nonprofit professional that wants to begin incorporating grant funding into your revenue streams.You know how to write grants, but you could always learn new tips and tricks to up your grant writing game. Hint: this is everyone that writes grants.Or you are entirely new to this field and you want to know the basics of how to started.Then join this free masterclass! We'll be diving into grant writing to give you the tools to get funded.&nbsp;
END:VEVENT
END:VCALENDAR
