BEGIN:VCALENDAR
VERSION:2.0
PRODID:-//360 Alumni//FoodCorps//EN
METHOD:REQUEST
BEGIN:VEVENT
UID:10595
DTSTAMP:20240228T220000Z
DTSTART:20240228T220000Z
DTEND:20240228T230000Z
LOCATION:Reiner's Bar
SUMMARY: Northeast MYG Alumni Mixer
DESCRIPTION: The Northeastern Mid-Year regional gathering is happening next week in Providence, Rhode Island, one of our new FoodCorp states. Our Alumni Mixer is happening on Wednesday February 28th from 5pm - 6pm at Reiner's Bar in the Graduate Providence Hotel.If you are in the Providence area please stop by to connect with fellow FoodCorps alumni and staff and reach out to Malaika Simmons (malaika.simmons@foodcorps.org) if you have any questions!
END:VEVENT
END:VCALENDAR
