BEGIN:VCALENDAR
VERSION:2.0
PRODID:-//360 Alumni//FoodCorps//EN
METHOD:REQUEST
BEGIN:VEVENT
UID:10596
DTSTAMP:20240308T050000Z
DTSTART:20240308T050000Z
DTEND:20240308T050000Z
LOCATION:online event
SUMMARY: APPLY NOW: ASU's Sustainable Food Systems Online Graduate Program
DESCRIPTION: Are you interested in being a part of the next generation of food policy and sustainable food system leaders?&nbsp;Apply by Thursday, March 7&nbsp;for a chance to receive a&nbsp;partial or full tuition scholarship&nbsp;to the Arizona State University (ASU) online graduate program in sustainable food systems!FoodCorps is launching our second round of&nbsp;partial or full scholarships&nbsp;for FoodCorps Alumni and returning service members to ASU&rsquo;s Sustainable Food Systems online graduate program. This includes the&nbsp;Food Policy and Sustainability Leadership Graduate Certificateand the&nbsp;Master of Science in Sustainable Food Systems.&nbsp;The scholarships are eligible for the school year beginning in Fall 2024. ASU&rsquo;s Food Systems program takes place virtually and is designed to fit the schedules of working professionals. Fun fact: so far, over 20 FoodCorps alumni have attended this program and earned a graduate certificate or MS.&nbsp;The program is a one-year&nbsp;Food Policy and Sustainability Leadership Graduate Certificate&nbsp;with an optional second year to achieve the&nbsp;Master of Science in Sustainable Food Systems. Both options are funded by this scholarship. Kathleen Merrigan, former USDA Deputy Secretary and former FoodCorps board member, designed and leads the program. She is the current Executive Director of the Swette Center for Sustainable Food Systems and ASU Professor.&nbsp;
END:VEVENT
END:VCALENDAR
