BEGIN:VCALENDAR
VERSION:2.0
PRODID:-//360 Alumni//FoodCorps//EN
METHOD:REQUEST
BEGIN:VEVENT
UID:10597
DTSTAMP:20240228T000000Z
DTSTART:20240228T000000Z
DTEND:20240228T020000Z
LOCATION:online event
SUMMARY: Faith, Food, & Freedom University - Call to Action
DESCRIPTION: Join the Black Church Food Security Network for a four-week political education virtual course preparing you to jumpstart your fight for food justice:February 27th | 7pmCall To Action! Doing Your Part to Improve the Health, Wealth, &amp; Power of Black AmericaBe a part of the fight for food justice.
END:VEVENT
END:VCALENDAR
