BEGIN:VCALENDAR
VERSION:2.0
PRODID:-//360 Alumni//FoodCorps//EN
METHOD:REQUEST
BEGIN:VEVENT
UID:10701
DTSTAMP:20240416T223000Z
DTSTART:20240416T223000Z
DTEND:20240416T233000Z
LOCATION:online event
SUMMARY: How to Land a Federal Job
DESCRIPTION: Are you curious about the vast opportunities within the federal workforce? Join us for a workshop where we dive into the world of federal jobs and unveil the keys to successfully securing employment through the USAJOBS.gov website.What to Expect During the Session:Benefits of a government jobEssential considerations before embarking on your federal job search journey.A guide to navigating USAJOBS.gov websiteTips for interviewing for a federal jobWhat to expect when starting a federal jobRecommendation checklist to guide you through the entire processThis workshop is a must-attend for young people interested in a rewarding career path within the federal government. Don't miss out on this opportunity to unlock the doors to federal employment. Secure your spot today and take the first step towards a fulfilling career with lasting impact!This event is hosted by the Swette Center for Sustainable Food Systems in partnership with CGF Career Services.
END:VEVENT
END:VCALENDAR
