BEGIN:VCALENDAR
VERSION:2.0
PRODID:-//360 Alumni//FoodCorps//EN
METHOD:REQUEST
BEGIN:VEVENT
UID:10861
DTSTAMP:20240715T184500Z
DTSTART:20240715T184500Z
DTEND:20240716T001500Z
LOCATION:Boston Convention Center
SUMMARY: FOLCS is Hosting a Workshop & Happy Hour at SNA Conference in Boston!
DESCRIPTION: Join FOLCS at ANC 2024 in Boston!We're excited to announce that FOLCS will be presenting at SNA&rsquo;s Annual National Conference (ANC) this summer in Boston, MA. Join Morgan McGhee, Director of School Nutrition Leadership at FoodCorps, and Wendy Ng, Director of Food Services at Gloucester Public Schools, for their insightful session titled &ldquo;SHIFTING Towards Equity in School Meals.&rdquo;
END:VEVENT
END:VCALENDAR
