BEGIN:VCALENDAR
VERSION:2.0
PRODID:-//360 Alumni//FoodCorps//EN
METHOD:REQUEST
BEGIN:VEVENT
UID:10957
DTSTAMP:20240910T140000Z
DTSTART:20240910T140000Z
DTEND:20240910T150000Z
LOCATION:online event
SUMMARY: Free Webinar: Navigating Organizational Barriers (Studio Magic Hour)
DESCRIPTION: Navigating Organizational BarriersDate &amp; Time: Sep 10, 2024 10:00 AM&nbsp; PST // 1:00 PM EST&nbsp;Implementing equity-driven mindsets and practices isn&rsquo;t just up to one person or one team. And that's because food systems change is inherently collaborative work.Whether you are a full-time employee of a large organization, a part-time team member, or an independent consultant, each of us works within an organization and/or in partnership with multiple entities.And those organizations can either support us in implementing equity-driven mindsets and practices &mdash; or they can create friction.So it&rsquo;s not enough to feel equipped with mindsets and practices. If you are able to easily implement those because the conditions are supportive within your organization at that time, that&rsquo;s fantastic. And it&rsquo;s essential to also have a toolkit for navigating organizational barriers where they exist.That's where this webinar comes in! During our hour together, you will:Examine the difference between barriers and conditions for success&nbsp;Explore a set of personal considerations to weigh when deciding how to address organizational barriers (if at all)&nbsp;Learn a sm&ouml;rg&aring;sbord of strategies to navigate organizational barriers&nbsp;Take time to remember how we can (and should!) take care of ourselves and our teams when the going gets tough
END:VEVENT
END:VCALENDAR
