BEGIN:VCALENDAR
VERSION:2.0
PRODID:-//360 Alumni//FoodCorps//EN
METHOD:REQUEST
BEGIN:VEVENT
UID:10976
DTSTAMP:20241102T040000Z
DTSTART:20241102T040000Z
DTEND:20241102T040000Z
LOCATION:Common Ground
SUMMARY: Common Ground's Farm & Garden Conference
DESCRIPTION: Please save the date for Common Ground's Farm &amp; Garden Conference!&nbsp;When is it?&nbsp;Saturday, November 2, 2024&nbsp;What is it?&nbsp;A full day of hands-on learning about farming, urban agriculture, school gardens, and more! Perfect for teachers, small farmers, and anyone who wants to learn more about growing things and teaching kids about growing things.&nbsp;Join and share widely! More details&nbsp;coming&nbsp;soon!&nbsp;Find Common Ground ...... on the web:&nbsp;www.commongroundct.org... on Facebook:&nbsp;www.facebook.com/commongroundconnecticut... on Twitter:&nbsp;www.twitter.com/commongroundct
END:VEVENT
END:VCALENDAR
