BEGIN:VCALENDAR
VERSION:2.0
PRODID:-//360 Alumni//FoodCorps//EN
METHOD:REQUEST
BEGIN:VEVENT
UID:11033
DTSTAMP:20241022T070000Z
DTSTART:20241022T070000Z
DTEND:20241108T080000Z
LOCATION:online event
SUMMARY: CA Farm to School Grant Program Evaluation Report + Webinar Series
DESCRIPTION: Join&nbsp;for a series of &ldquo;Lunch and Learn&rdquo; webinars where the research team from&nbsp; will share the results of the evaluation with time for discussion and Q&amp;A.&nbsp;Register&nbsp;here.Part 1: October 22, 2024How is California&rsquo;s Farm to School Program Working for Farmers and Ranchers?Part 2: October 28, 2024How is California&rsquo;s Farm to School Program Working for Schools and Early Care and Education (ECE) Centers?Part 3: November 8, 2024What are the Experiences for Grantees Participating in &ndash; and Applying for &ndash; the Farm to School Incubator Grant Program in California? A Farm to School Evaluation Team Discussion with CDFA.&nbsp;The first of a series of progress reports&nbsp;from the Evaluation Team finds that California farmers and ranchers participating in the state&rsquo;s Farm to School Incubator Grant Program are increasing sales of fresh, local, and organic produce, meat, and dairy products to schools. The report also found that 57% of the program&rsquo;s farmers made sales to schools between April and September 2023, representing an average of 33% of their total farm revenues. All food producers funded by the Farm to School Grant Program state that they use or plan to use climate smart agricultural practices in their operations during the grant period.
END:VEVENT
END:VCALENDAR
