BEGIN:VCALENDAR
VERSION:2.0
PRODID:-//360 Alumni//FoodCorps//EN
METHOD:REQUEST
BEGIN:VEVENT
UID:11188
DTSTAMP:20250219T173000Z
DTSTART:20250219T173000Z
DTEND:20250219T190000Z
LOCATION:Capitol Hill Tower Building
SUMMARY: 2025 Arkansas Lobby Day
DESCRIPTION: Mark your calendar for Wednesday, February 19, 2025, and join us for Lobby Day as we advocate for those affected by food insecurity in Arkansas!&nbsp;Pre-Lobby Day Webinar: To help you prepare, we&rsquo;re hosting a Pre-Lobby Day on February 12 from 1-2pm. orientation to review key talking points and answer any questions. During the webinar, we&rsquo;ll discuss our advocacy priorities, what to expect on Lobby Day, and how to effectively engage with legislators.WEBINAR REGISTRATION--Lobby Day Schedule&nbsp;&nbsp;Kickoff Location: 1524 W. 4th Street, Little Rock (Capitol Hill Tower Building)&nbsp;Coffee: 9:30-10amSponsored by FoodCorpsRegistration: 9:15-10am&nbsp;Receive your T-shirt.&nbsp;Review &ldquo;same page&rdquo; talking points.&nbsp;Connect with fellow advocates before we start the day.&nbsp;Visit the Capitol and see Legislative Meetings: 10-11am&nbsp;Attend committee discussions on current Legislative action.Lunch: 11:30-1pmEnjoy our signature beans and cornbread lunch&mdash;invite your state legislator to join!Engage with legislators and share why food security matters!Find your State Legislators here.Post-Lunch: 1-2pm&nbsp;Divide into two groups to be a &ldquo;GREEN&rdquo; presence in both chamber&rsquo;s galley as the floor announces the Arkansas Hunger Relief Alliance Lobby Day!&nbsp;T-Shirts AvailableA limited number of Lobby Day t-shirts will be available on a first-come, first-served basis&mdash;be sure to arrive early to grab yours!DON'T FORGET TO LET US KNOW YOU'RE COMING!--&nbsp;PARKING DETAILSParking is available in the upper lot at Next Level Events, located at the west end of the Union Train Station, 1400 W. Markham in Little Rock. Limited street parking may be available along West 4th at your own cost. You may also drop off Lobby Day participants at our meeting spot at 1524 W. 4th St. Please keep in mind that parking is about two plus blocks away from our gathering place.&nbsp;
END:VEVENT
END:VCALENDAR
