BEGIN:VCALENDAR
VERSION:2.0
PRODID:-//360 Alumni//FoodCorps//EN
METHOD:REQUEST
BEGIN:VEVENT
UID:11296
DTSTAMP:20250601T160000Z
DTSTART:20250601T160000Z
DTEND:20250601T190000Z
LOCATION:Del Rio Elementary School
SUMMARY: Del Rio Garden Workday
DESCRIPTION: Hi everyone! My name is Wenona and I serve at Del Rio Elementary in Oceanside, CA. I want to invite any alums in the area to a garden workday at my service site on June 1st. We will be building a couple new garden beds and cleaning out the shed. This event will be open to the public so please RSVP at this Google Form.&nbsp;If you have any questions you can contact me! Thank you!
END:VEVENT
END:VCALENDAR
