BEGIN:VCALENDAR
VERSION:2.0
PRODID:-//360 Alumni//FoodCorps//EN
METHOD:REQUEST
BEGIN:VEVENT
UID:11303
DTSTAMP:20250622T070000Z
DTSTART:20250622T070000Z
DTEND:20250624T070000Z
LOCATION:Portland State University, Viking Pavilion, Portland, Oregon
SUMMARY: Resilience and Resistance: Cross-Pollinating Food Movements
DESCRIPTION: Resilience and Resistance: Cross-Pollinating Food MovementsJune 22 - 24Portland State University, Viking Pavilion, Portland, Oregon&nbsp;About the ConferenceThis national gathering will bring together food systems leaders, farmers, academics, and advocates to tackle pressing environmental, economic, and health challenges. With over 500 attendees expected, the event will feature inspiring keynote speakers, interactive workshops, local field trips, and networking opportunities&mdash;all designed to strengthen and reimagine our food systems movement.&nbsp;This is more than just a conference; it&rsquo;s a call to action. Together, we&rsquo;ll explore strategies for sustainability, democracy, and community resilience while fostering connections across sectors. Whether you&rsquo;re a nonprofit, farmer, community advocate, local government staff, or academic this is your chance to collaborate, share insights, and lead the charge for a more fair and resilient future. Join us on the urban campus of Portland State University and be part of a transformative event!&nbsp;Hosted by the Institute for Social and Economic Development Solutions (ISED), fiscally sponsored by Third Sector New England, Inc&nbsp;__View the Conference Schedule, Speakers, and more: https://ised.regfox.com/conference#scheduleScholarship applications are being accepted through May 1: https://docs.google.com/forms/d/e/1FAIpQLScvuCNWU3GlSh3Q-o_43vNLpLvsD6tUz0Ma2CGbBtOSt2Gxug/viewform&nbsp;
END:VEVENT
END:VCALENDAR
