BEGIN:VCALENDAR
VERSION:2.0
PRODID:-//360 Alumni//FoodCorps//EN
METHOD:REQUEST
BEGIN:VEVENT
UID:11304
DTSTAMP:20250416T220000Z
DTSTART:20250416T220000Z
DTEND:20250416T230000Z
LOCATION:online event
SUMMARY: Finding Your Future in Food Systems (Webinar)
DESCRIPTION: REGISTRATION IS FREE: https://members.foodsystemsnetwork.org/members/evr/reg_event.php?evid=51372559&amp;orgcode=NAFS&nbsp;--Are you an emerging food systems professional?&nbsp;Are you in career transition, seeking a job in community food work?&nbsp;This series is for you!Finding Your Future in Food Systems&nbsp;provides&nbsp;participants with connections and insights to help them identify&nbsp;next steps for&nbsp;their careers.The series includes speakers from a wide variety of sectors within the food systems profession: policy &amp; advocacy, market development, food access initiatives, value chain development, education, and farming, both urban and rural.The series features speakers from job-creating organizations, agencies,&nbsp;and businesses, some working locally in their communities, others with national and international scope. Produced by college students for college students and other emerging professionals.Featured speakers for this session on&nbsp;Wed, Apr 16, 2025:Alondra&nbsp;Cano, MarbleseedMaddie Kempner, NOFA-VTNora Miller, Farm Aid
END:VEVENT
END:VCALENDAR
