BEGIN:VCALENDAR
VERSION:2.0
PRODID:-//360 Alumni//FoodCorps//EN
METHOD:REQUEST
BEGIN:VEVENT
UID:11305
DTSTAMP:20250423T220000Z
DTSTART:20250423T220000Z
DTEND:20250423T230000Z
LOCATION:online event
SUMMARY: Finding Your Future in Food Systems (Webinar)
DESCRIPTION: REGISTRATION IS FREE:&nbsp;https://members.foodsystemsnetwork.org/members/evr/reg_event.php?evid=51373781&amp;orgcode=NAFS --Are you an emerging food systems professional?&nbsp;Are you in career transition, seeking a job in community food work?&nbsp;This series is for you!Finding Your Future in Food Systems&nbsp;provides&nbsp;participants with connections and insights to help them identify&nbsp;next steps for&nbsp;their careers.The series includes speakers from a wide variety of sectors within the food systems profession: policy &amp; advocacy, market development, food access initiatives, value chain development, education, and farming, both urban and rural.The series features speakers from job-creating organizations, agencies,&nbsp;and businesses, some working locally in their communities, others with national and international scope. Produced by college students for college students and other emerging professionals.Featured speakers for this session on&nbsp;Wed, Apr 23, 2025:Hakeem Holmes, NCATZainab Pixler, Cleveland Department of Public HealthTiffany Bellfield El-Amin, Kentucky Black Farmers Association
END:VEVENT
END:VCALENDAR
