BEGIN:VCALENDAR
VERSION:2.0
PRODID:-//360 Alumni//FoodCorps//EN
METHOD:REQUEST
BEGIN:VEVENT
UID:3386
DTSTAMP:20170911T070000Z
DTSTART:20170911T070000Z
DTEND:20170913T070000Z
LOCATION:Greater Tacoma Convention & Trade Center
SUMMARY: Closing the Hunger Gap 2017
DESCRIPTION: https://docs.google.com/forms/d/e/1FAIpQLSeIt02dgmpiISc-QewlenFObFKuw9NDF1T_6_JSw3RgeGQiEg/viewform?c=0&amp;w=1

The goal of the 2017 CTHG conference is to move hunger relief organizations toward strategies that promote social justice and address the root causes of hunger, using the lens of racial and economic equity.

At the first CTHG conference in 2013, 300 people from 170 organizations representing 33 states plus Washington, DC gathered together in Tucson, Arizona. For the 2017 conference, we expect to bring together more than 500 attendees representing emergency food providers, farms, and nonprofit organizations focused on health, education, and food justice. The conference will be a vibrant, diverse, and inspiring event where attendees have ample time to learn new skills, discuss innovative programs, and network with their peers.

Interested in becoming a Closing the Hunger Gap sponsor? Contact&nbsp;cthg@northwestharvest.org&nbsp;to find out more about conference sponsorship.
END:VEVENT
END:VCALENDAR
