BEGIN:VCALENDAR
VERSION:2.0
PRODID:-//360 Alumni//FoodCorps//EN
METHOD:REQUEST
BEGIN:VEVENT
UID:3403
DTSTAMP:20170406T230000Z
DTSTART:20170406T230000Z
DTEND:20170407T000000Z
LOCATION:online event
SUMMARY: Guatemala One Health Program: Online Open House
DESCRIPTION: Come Join IPSL and&nbsp;Origins of Food&nbsp;for the Second Online Open House of 2017 (And Final in the 2017 Spring Semester) for the Guatemala One Health: Ecology. Culture. Justice. program. They are very interested in having FoodCorps Alumni go on this program!

Learn about how you can explore food sustainability, social justice, food soverighty, sustainable agriculture, enivornmental issues and animal welfare in this unique short term program open to grads, undergrads,AmeriCorps Alums&nbsp;and adult learners.&nbsp;

TWO TERMS: January 2018 and Summer 2018&nbsp;

Speak with program leaders and AmeriCorps NCCC alums during this open Q and A about the program! Login information below:&nbsp;

IPSL/Origins of Food: Guatemala One Health Online Open House&nbsp;
Thursday, April 6, 2017 4:00 PM - 5:00 PM PDT&nbsp;
Please join my meeting from your computer, tablet or smartphone.&nbsp;
https://global.gotomeeting.com/join/846401693&nbsp;
You can also dial in using your phone.&nbsp;
United States: +1 (408) 650-3123&nbsp;
Access Code: 846-401-693&nbsp;
First GoToMeeting? Try a test session:&nbsp;http://help.citrix.com/getready
END:VEVENT
END:VCALENDAR
