BEGIN:VCALENDAR
VERSION:2.0
PRODID:-//360 Alumni//FoodCorps//EN
METHOD:REQUEST
BEGIN:VEVENT
UID:3423
DTSTAMP:20170427T200000Z
DTSTART:20170427T200000Z
DTEND:20170427T220000Z
LOCATION:Haven's Kitchen
SUMMARY: Connections Over Coffee
DESCRIPTION: FoodCorps is hoping to engage current applicants who have applied for next service year in this casual evening of networking and connecting.&nbsp;Join us for an afternoon of networking, coffee, and light snacks at Haven&#39;s Kitchen!

&nbsp;

No tickets required. RSVP here.
END:VEVENT
END:VCALENDAR
