BEGIN:VCALENDAR
VERSION:2.0
PRODID:-//360 Alumni//FoodCorps//EN
METHOD:REQUEST
BEGIN:VEVENT
UID:3480
DTSTAMP:20170613T003000Z
DTSTART:20170613T003000Z
DTEND:20170613T013000Z
LOCATION:online event
SUMMARY: Alumni Chapter Kick-Off Call
DESCRIPTION: The Events &amp; Gatherings Subcommittee of the Alumni Council invites you a kick-off call for anyone interested in starting an alumni chapter in their area. We need chapter leads who want to work to plan alumni events in their area. The call is on Monday, June 12th at 8:30pm ET / 7:30pm CT / 6:30pm MT / 5:30pm PT / 2:30pm HT and you can use the call information below.

917-962-0650

Access Code: 538483
END:VEVENT
END:VCALENDAR
