BEGIN:VCALENDAR
VERSION:2.0
PRODID:-//360 Alumni//FoodCorps//EN
METHOD:REQUEST
BEGIN:VEVENT
UID:3486
DTSTAMP:20170614T190000Z
DTSTART:20170614T190000Z
DTEND:20170614T190000Z
LOCATION:online event
SUMMARY: Engaging Policy Makers: What Works! - Webinar
DESCRIPTION: Wednesday, June 14,&nbsp;3-4:30pm EST

The Farm Bill is a powerful piece of legislation, but its ability to serve our communities&rsquo; needs depends in part on our ability to communicate our experiences with its programs and policies.

Good Food For All invites you to a webinar about how to ensure that your community&rsquo;s voice is shared, heard, and timely for discussions of the 2018 Farm Bill.

Use&nbsp;this link&nbsp;to register and log in to the webinar on&nbsp;June 14. Please log in 5-10 minutes before the webinar begins, and note that you will need to download AdobeConnect.&nbsp;

&nbsp;
END:VEVENT
END:VCALENDAR
