BEGIN:VCALENDAR
VERSION:2.0
PRODID:-//360 Alumni//FoodCorps//EN
METHOD:REQUEST
BEGIN:VEVENT
UID:3528
DTSTAMP:20170625T213000Z
DTSTART:20170625T213000Z
DTEND:20170625T230000Z
LOCATION:Urban Adamah
SUMMARY: Alumni, Service Members and Friends of FoodCorps Gather in Berkeley
DESCRIPTION: You&#39;re invited to join us for light refreshments and networking at Urban Adamah&#39;s farm. We&#39;ll be celebrating the end of our first-ever School Food Leadership Training, which is taking place next weekend.&nbsp;

Looking forward to seeing many of you there!
END:VEVENT
END:VCALENDAR
