BEGIN:VCALENDAR
VERSION:2.0
PRODID:-//360 Alumni//FoodCorps//EN
METHOD:REQUEST
BEGIN:VEVENT
UID:3571
DTSTAMP:20170806T003000Z
DTSTART:20170806T003000Z
DTEND:20170806T034500Z
LOCATION:Lewis & Clark College
SUMMARY: Alumni Reception at National Orientation
DESCRIPTION: Join us for a reception, dinner, and an inspring evening of speakers during the second night of our National Orientation. Find us outside of the Templeton building.

5:30-6:30pm Alumni Mixer

6:30-7:30pm Dinner with special guests

7:30-8:45 Alumni speakers + presentation of our first-ever Alumni Service Leadership Award

&nbsp;

We hope you&#39;ll join us for this exciting evening!
END:VEVENT
END:VCALENDAR
