BEGIN:VCALENDAR
VERSION:2.0
PRODID:-//360 Alumni//FoodCorps//EN
METHOD:REQUEST
BEGIN:VEVENT
UID:3644
DTSTAMP:20170905T213000Z
DTSTART:20170905T213000Z
DTEND:20170906T000000Z
LOCATION:Blueberry Cove 4-H Camp & Learning Center
SUMMARY: PY18 FoodCorps Maine State Orientation
DESCRIPTION: Calling all alumni!

FoodCorps Maine State Orientation is happening September 5-7 at Blueberry Cove 4-H Camp &amp; Learning Center in Tenants Harbor. The first day of training will be focused on all things Maine (!), and we&#39;d love to have FoodCorps alumni join us for dinner on Tuesday, Sept. 5 at 5:30pm. This will be informal, but would love for our members (10 new, 2 returning) to have a chance to connect in person with former service members. Please let us know in advance if you&#39;re planning on coming so we can have extra food. Thanks, and hope to see you there!&nbsp;
END:VEVENT
END:VCALENDAR
