BEGIN:VCALENDAR
VERSION:2.0
PRODID:-//360 Alumni//FoodCorps//EN
METHOD:REQUEST
BEGIN:VEVENT
UID:3650
DTSTAMP:20170912T200000Z
DTSTART:20170912T200000Z
DTEND:20170912T200000Z
LOCATION:online event
SUMMARY: Professional Development for Garden Educators
DESCRIPTION: School Garden Support Organizations work to prepare teachers, organization staff, and community volunteers to lead students in garden-based learning activities. Learn different approaches School Garden Support Organizations use to lead high quality professional development for garden educators.&nbsp;

&nbsp;

Hosted by:&nbsp;Vanesa Ford, Director of Training &amp; Curriculum Development, Real School Garden

Register here:&nbsp;https://register.gotowebinar.com/register/556444525348488705

Want more webinars?&nbsp;The next scheduled webinar is:&nbsp;School Garden Networks on&nbsp;October 10th, 2017@&nbsp;4:00pm EST
END:VEVENT
END:VCALENDAR
