BEGIN:VCALENDAR
VERSION:2.0
PRODID:-//360 Alumni//FoodCorps//EN
METHOD:REQUEST
BEGIN:VEVENT
UID:3651
DTSTAMP:20170914T190000Z
DTSTART:20170914T190000Z
DTEND:20170914T220000Z
LOCATION:online event
SUMMARY: AmeriCorps Alums Virtual Graduate School Fair
DESCRIPTION: Graduate School on your mind? We&#39;re bringing the grad school recruiters to you!

No musty gyms. No elbowing in line. No need to rush to make 20 copies of your resume on your roommate&#39;s printer that&#39;s running low on ink....you get the idea!

Get to the front of the line&nbsp;and talk to recruiters from top schools on&nbsp;September 14th.&nbsp; They know what AmeriCorps is and have scholarships and fee-waivers that recognize your service.&nbsp;Sign-up today to reserve your spot.

The&nbsp;AmeriCorps Alums Virtual Fair&nbsp;is on&nbsp;September 14th&nbsp;from&nbsp;12-3pm ET.&nbsp; With a computer or mobile device and a few minutes to set-up your profile, you can chat with programs in education, business, policy, and more.&nbsp; All the schools featured at our fair value AmeriCorps service as a training ground for leaders.&nbsp;Get started now and take your next step!REGISTER&nbsp; TODAY!

&nbsp;
END:VEVENT
END:VCALENDAR
