BEGIN:VCALENDAR
VERSION:2.0
PRODID:-//360 Alumni//FoodCorps//EN
METHOD:REQUEST
BEGIN:VEVENT
UID:3653
DTSTAMP:20171130T130000Z
DTSTART:20171130T130000Z
DTEND:20171201T220000Z
LOCATION:Gwinnett Technical College
SUMMARY: Food For Thought Conference
DESCRIPTION: Strengthening Connections Between Local Food Producers and Farmers Markets

The Food for Thought Conference brings market managers, farmers, municipalities, agricultural businesses, educators, healthcare professionals, food advocates and local food enthusiasts together to share their experience, knowledge and passion for healthy food, strong communities and food sovereignty. The Food for Thought Conference is an interactive,&nbsp;two-day&nbsp;conference that will propel the vision for your agriculture business forward. It&nbsp;is designed to equip and empower those in the sustainable agriculture community through a host of workshops and demonstrations.

Sign up for conference updates here!

Buy your conference ticket here!

Be on the lookout for volunteer opportunities, coming soon at mygeorgiamarket.org!
END:VEVENT
END:VCALENDAR
