BEGIN:VCALENDAR
VERSION:2.0
PRODID:-//360 Alumni//FoodCorps//EN
METHOD:REQUEST
BEGIN:VEVENT
UID:3702
DTSTAMP:20170915T233000Z
DTSTART:20170915T233000Z
DTEND:20170916T010000Z
LOCATION:City Winery
SUMMARY: Gathering at City Winery in Atlanta, GA
DESCRIPTION: All alumni and current service members are invited to join participants from our&nbsp;Alumni of Color Cohort for a social gathering at City Winery. We&#39;ll buy you dinner!

&nbsp;

This is an opportunity for all local FoodCorps alums and service members to meet and reconnect over food. City Winery is located in the same complex as Ponce City Market. Feel free to drop by anytime between 7:30 and 9pm!

&nbsp;

The address field may not include all of the details for the location. Here is the full address:

650 North Avenue NE #201 Atlanta, GA
END:VEVENT
END:VCALENDAR
