BEGIN:VCALENDAR
VERSION:2.0
PRODID:-//360 Alumni//FoodCorps//EN
METHOD:REQUEST
BEGIN:VEVENT
UID:3768
DTSTAMP:20171005T220000Z
DTSTART:20171005T220000Z
DTEND:20171005T230000Z
LOCATION:online event
SUMMARY: IPSL Origins of Food Online Open House
DESCRIPTION: Interested in Food Justice, Sustainable Agriculture, Environmental conservation, Animal Welfare and Human Rights?
Join us for the

IPSL/Origins of Food Guatemala
Short-Term&nbsp;Program: Online Open House&nbsp;

Thu, Oct 5, 2017
3:00 PM - 4:00 PM PDT&nbsp;/&nbsp;
6:00 PM - 7:00 PM EST

&nbsp;

Register for the open house here:&nbsp;

http://mailchi.mp/ipsl/ipslorigins-of-food-online-open-house-2814637?e=[UNIQID]&nbsp;
END:VEVENT
END:VCALENDAR
