BEGIN:VCALENDAR
VERSION:2.0
PRODID:-//360 Alumni//FoodCorps//EN
METHOD:REQUEST
BEGIN:VEVENT
UID:3772
DTSTAMP:20180412T070000Z
DTSTART:20180412T070000Z
DTEND:20180413T070000Z
LOCATION:Fairmont San Francisco
SUMMARY: Inclusive Diversity 2018 Conference
DESCRIPTION: Inclusive Diversity 2018 Conference: Driving Innovation &amp; Market Share by Strengthening Cultural Intelligence (San Francisco, CA) (Live &amp; Virtual options)

Workshop Highlights: Getting Buy-in from Senior Level Executives, Helping Troubled Employees Cope with Stress, Addiction, &amp; Fearfulness; Conflict Management: Workers With Diverse Viewpoints in a Volatile Political Landscape; How to Measure the ROI of a Diverse Culture; Creating Inclusion &amp; Acceptance from Managers; Driving Innovation &amp; Acceptance Through Multicultural Teams

&nbsp;
END:VEVENT
END:VCALENDAR
