BEGIN:VCALENDAR
VERSION:2.0
PRODID:-//360 Alumni//FoodCorps//EN
METHOD:REQUEST
BEGIN:VEVENT
UID:3808
DTSTAMP:20180425T040000Z
DTSTART:20180425T040000Z
DTEND:20180427T040000Z
LOCATION:TBD
SUMMARY: National Farm to Cafeteria Conference
DESCRIPTION: Find more information here:&nbsp;http://www.farmtoschool.org/our-work/farm-to-school-cafeteria-conference&nbsp;

Save the date for the&nbsp;9th National Farm to Cafeteria Conference&nbsp;coming to Cincinnati, Ohio, April 25-27, 2018! Hosted by the National Farm to School Network, this biennial event will convene more than 1,000 diverse stakeholders working to source local food for institutional cafeterias and foster a culture of food and agricultural literacy across America. Registration will open January 2018 - mark your calendars now! Make sure you&#39;re&nbsp;signed up for our e-newsletter&nbsp;to receive the latest updates!&nbsp;

Do you have expertise to share?&nbsp;We&rsquo;re seeking workshop and poster proposals from individuals and organizations working to improve our food system, strengthen community health, empower youth, advance equity and increase opportunities for farmers. The Request for Proposals (RFP) is open now through Nov. 14, 2017. Additional information is available below.
END:VEVENT
END:VCALENDAR
