BEGIN:VCALENDAR
VERSION:2.0
PRODID:-//360 Alumni//FoodCorps//EN
METHOD:REQUEST
BEGIN:VEVENT
UID:3814
DTSTAMP:20171213T080000Z
DTSTART:20171213T080000Z
DTEND:20171215T080000Z
LOCATION:Leichtag Commons
SUMMARY: SoCal Farmers Summit
DESCRIPTION: PART ONE

WEDNESDAY DECEMBER 13
THE 2017 SOCAL FARMERS SUMMIT

&nbsp;

Join us in Encintas, CA for a day-long gathering of agrarians, new and experienced, together with local food advocates to empower our family farms and promote sustainable agriculture throughout Southern CA, followed by an evening celebrating our local bounty.

This event features educational workshops, farmer-to-farmer roundtables and food system discussions for the whole community. Come cross-pollinate among the SoCal agricultural community, refine your farming skills, meet the many service providers in your area and help us celebrate those working to build a stronger, healthier and more just food and farming system.

PROGRAMS INCLUDE:

Food Safety Workshops
Marketing Roundtable &amp; Clinics
CSA Regional Training
Farm to Cafeteria Workshop
Keynote Farmer Presentation

Food &amp; Farm Policy Working Group
Climate Smart Farming Workshop
Dinner &amp; Reception
Film Screening: &ldquo;The Evolution of Organic&rdquo;
Land &amp; Finance Clinics



PART TWO

THURSDAY &amp; FRIDAY: DECEMBER 14 &amp; 15&nbsp;​
ENTREPRENUERIAL INTENSIVE
FOR NEW &amp; BEGINNING FARMERS

Sustainable Agriculture Starts with a Sustainable Business

This two-day workshop series will provide new and aspiring farmers with a solid introduction to the entrepreneurial skills needed to succeed, a valuable supplement to any on-farm experience. Taught by a variety of educators, business experts and experienced local farmers, this affordable program will provide upstart agrarians with the basic business tools to prepare you for a career in agriculture, as well as the&nbsp;peer-to-peer community support to keep you inspired and on track.
​

TOPICS COVERED:

​Business Planning
Book-Keeping
Market Research
Production Planning
Lease Negotiation
Financing&nbsp;
Permits, Licensing, &amp; Regulation
Whole Farm Planning
And more...
END:VEVENT
END:VCALENDAR
