BEGIN:VCALENDAR
VERSION:2.0
PRODID:-//360 Alumni//FoodCorps//EN
METHOD:REQUEST
BEGIN:VEVENT
UID:3848
DTSTAMP:20171204T080000Z
DTSTART:20171204T080000Z
DTEND:20171207T080000Z
LOCATION:online event
SUMMARY: Growing for the Future Virtual Conference - National Farmers Union
DESCRIPTION: Register here:&nbsp;https://secure.icohere.com/registration/register.cfm?reg=4040&amp;evt=NFU17&amp;t=1510079279212

Please join us for a FREE four-day online conference focused on developing agricultural leaders from all backgrounds.&nbsp;Our annual nationally focused online conference provides an opportunity for beginning farmers to acquire the skills they need to run a successful operation.
&nbsp;
The conference will highlight leaders in the field of agriculture and focus on building a network for beginning farmers and ranchers throughout the country. We look forward to learning with you!

For any questions or concerns please email NFU Education Director, Melissa Miller at:&nbsp;Melissamiller@nfudc.org
END:VEVENT
END:VCALENDAR
