BEGIN:VCALENDAR
VERSION:2.0
PRODID:-//360 Alumni//FoodCorps//EN
METHOD:REQUEST
BEGIN:VEVENT
UID:3884
DTSTAMP:20171206T230000Z
DTSTART:20171206T230000Z
DTEND:20171207T020000Z
LOCATION:Life Alive
SUMMARY: FoodCorps Alumni Meet-Up at Life Alive
DESCRIPTION: Come one, come all to Life Alive to meet up and spend some time with your FoodCorps friends! Life Alive is a cozy cafe and &quot;urban oasis&quot; that has awesome smoothies, kombucha and great veg-friendly food options! It&#39;s located in Central Sq. (about a 20min T-ride from Downtown Boston).&nbsp;

If folks are interested and want to go out for drinks, there are a few bars in the square as well as a brewery (that&#39;s hosting a Poutine Pop-Up) within walking distance from the cafe!&nbsp;

Facebook Event information:&nbsp;https://www.facebook.com/events/1985291048349381/&nbsp;
END:VEVENT
END:VCALENDAR
