BEGIN:VCALENDAR
VERSION:2.0
PRODID:-//360 Alumni//FoodCorps//EN
METHOD:REQUEST
BEGIN:VEVENT
UID:3906
DTSTAMP:20180118T080000Z
DTSTART:20180118T080000Z
DTEND:20180118T080000Z
LOCATION:Race Forward Conference Room
SUMMARY: Building Racial Equity - Race Forward
DESCRIPTION: January 18th: Building Racial Equity (Race Forward: The Center for Racial Justice Innovation, Oakland, CA): Building Racial Equity: Foundations is the first and &ldquo;foundational&rdquo; training of the series. Participants will build on and strengthen racial equity practices for themselves and their organizations and networks. This training will introduce participants to concepts, frames and tools that are essential to a productive racial equity practice. Attending this training is required to participate in subsequent series trainings. 
END:VEVENT
END:VCALENDAR
