BEGIN:VCALENDAR
VERSION:2.0
PRODID:-//360 Alumni//FoodCorps//EN
METHOD:REQUEST
BEGIN:VEVENT
UID:3933
DTSTAMP:20180215T060000Z
DTSTART:20180215T060000Z
DTEND:20180216T060000Z
LOCATION:Scarritt Bennett Center
SUMMARY: South-Central Regional Mid-Year Gathering - RSVP via Google Form
DESCRIPTION: We hope you will be able to join us in Nashville this year for one and a half days of training and networking.

IMPORTANT: Please RSVP via this Google Form. Responding to this event page won&#39;t give us all the information we need.


THURSDAY, FEBRUARY 15TH
Title: Culturally Responsive Teaching: Deepening Our Practices and Reflecting on Implicit Bias
Presenter: Rachel Willis, Elevating Equity&nbsp;
Description: This session will allow service members to deepen their understanding and practice of culturally responsive teaching. Service members will learn how various types of implicit bias may impact their relationships within their school or service communities, and will explore ways of mitigating implicit bias in their classrooms. This hands on session will incorporate the modeling of a culturally responsive FoodCorps lesson and will highlight how to plan for classroom management using these approaches.

Title:&nbsp; Working Toward and Sustaining Partnership and Ally Relationships
Presenter: Dionardo Piza&ntilde;a
Description: Working effectively across race, class, gender/gender identity and other differences can be life giving and difficult.&nbsp; It can be life giving when we experience or create environments that welcome our full selves or the wholeness of our partners finding new ways to be in community with each other.&nbsp; It can be difficult when we consciously or unconsciously operate in ways that maintain power and privilege in our relationships across differences. During&nbsp; this session, we will work together to better understand&nbsp; how to move toward becoming more effective and authentic allies in our personal and professional lives.&nbsp; During this session service members will:
- Explore issues of power, privilege and social identity
- Learn about qualities of authentic relationships across differences&nbsp;
- Explore the role of emotions in working across differences and approaches to positive confrontation&nbsp;
- Identify next steps on the journey working toward authentic relationships and allied behaviors&nbsp;

We will have an alumni mixer and celebratory dinner in the evening.

FRIDAY, FEBRUARY 16TH&nbsp; &nbsp; &nbsp; &nbsp; &nbsp; &nbsp; &nbsp;&nbsp;
We will have a series of career development sessions on this day including a career exploration workshop with Jim Laden and a career panel with alumni and local professionals.&nbsp; &nbsp; &nbsp; &nbsp; &nbsp; &nbsp; &nbsp; &nbsp; &nbsp; &nbsp; &nbsp; &nbsp; &nbsp; &nbsp; &nbsp; &nbsp; &nbsp; &nbsp; &nbsp; &nbsp; &nbsp; &nbsp; &nbsp; &nbsp; &nbsp; &nbsp; &nbsp; &nbsp;
We look forward to seeing you!
END:VEVENT
END:VCALENDAR
