BEGIN:VCALENDAR
VERSION:2.0
PRODID:-//360 Alumni//FoodCorps//EN
METHOD:REQUEST
BEGIN:VEVENT
UID:4023
DTSTAMP:20180523T070000Z
DTSTART:20180523T070000Z
DTEND:20180525T070000Z
LOCATION:TBD
SUMMARY: PGM ONE
DESCRIPTION: https://www.pgmone.org/

&nbsp;

PGM ONE 2018

MAY 23-25, 2018 IN OAKLAND, CA

THE PGM ONE SUMMIT CONVENES EMERGING AND ESTABLISHED PROFESSIONALS OF THE GLOBAL MAJORITY FROM THE OUTDOOR AND ENVIRONMENTAL SECTORS TO SHARE, LEARN, HEAL, CELEBRATE, BUILD COMMUNITY, FIND SUPPORT, AND SHARPEN THEIR ANALYSIS OF EQUITY IN THEIR FIELD.&nbsp;
END:VEVENT
END:VCALENDAR
