BEGIN:VCALENDAR
VERSION:2.0
PRODID:-//360 Alumni//FoodCorps//EN
METHOD:REQUEST
BEGIN:VEVENT
UID:4029
DTSTAMP:20180227T203000Z
DTSTART:20180227T203000Z
DTEND:20180227T213000Z
LOCATION:online event
SUMMARY: Fundraising 101 Roundtable with FoodCorps' VP of Growth & Development
DESCRIPTION: Do you fundraise for your job? Are you trying to raise money for a side project? Ellen Moncure-Wong, FoodCorps&rsquo; VP of Growth and Development, wants to help you learn how to fundraise effectively. Please sign up for this conversation and let us know what you&rsquo;d like to learn&nbsp;here.

&nbsp;

Call-in details:

You can either follow this link to join through your computer:

foodcorps.webex.com/meet/carrot

OR call (240) 454-0879&nbsp; Mtg Num 802 071 386#
END:VEVENT
END:VCALENDAR
