BEGIN:VCALENDAR
VERSION:2.0
PRODID:-//360 Alumni//FoodCorps//EN
METHOD:REQUEST
BEGIN:VEVENT
UID:4080
DTSTAMP:20180313T193000Z
DTSTART:20180313T193000Z
DTEND:20180313T203000Z
LOCATION:online event
SUMMARY: Fundraising 101 Roundtable with FoodCorps' VP of Growth & Development
DESCRIPTION: Do you fundraise for your job? Are you trying to raise money for a side project? Ellen Moncure-Wong, FoodCorps&rsquo; VP of Growth and Development, wants to help you learn how to fundraise effectively. Please sign up for this conversation and let us know what you&rsquo;d like to learn&nbsp;here.

&nbsp;

WebEx - Carrot - foodcorps.webex.com/meet/carrot OR call (240) 454-0879&nbsp; Mtg Num 802 071 386#

You don&#39;t need to be on your computer to call in! You can just use your phone.

&nbsp;

Purpose: &nbsp;Build community, knowledge and skills around fundraising and philanthropy through a generative and informal conversation with FoodCorps alumni and staff.

____________________________________________________________________________

Outcomes 


	
	Built a sense of community between alumni and staff working in or curious about the field of philanthropy
	
	
	Shared ideas to help participants overcome current fundraising challenges within their jobs/communities.
	
	
	Built an understanding about fundraising as a field and at FoodCorps.
	


____________________________________________________________________________
END:VEVENT
END:VCALENDAR
