BEGIN:VCALENDAR
VERSION:2.0
PRODID:-//360 Alumni//FoodCorps//EN
METHOD:REQUEST
BEGIN:VEVENT
UID:4087
DTSTAMP:20180505T070000Z
DTSTART:20180505T070000Z
DTEND:20180505T070000Z
LOCATION:FoodCorps Office
SUMMARY: Career Roadshow: Portland, OR
DESCRIPTION: We&rsquo;re hitting the road to bring you 1-day intensive opportunities to explore job-seeking skills including writing resumes and cover letters, effective interviewing and more. The day will culminate with a networking opportunity for you all to get to know one another and mingle with local employers. We&rsquo;re excited to offer this new opportunity for self-reflection, skill-building and networking.

Lunch and snacks will be provided.
END:VEVENT
END:VCALENDAR
