BEGIN:VCALENDAR
VERSION:2.0
PRODID:-//360 Alumni//FoodCorps//EN
METHOD:REQUEST
BEGIN:VEVENT
UID:4150
DTSTAMP:20180321T220000Z
DTSTART:20180321T220000Z
DTEND:20180321T234500Z
LOCATION:Boston Public Market
SUMMARY: Food Trivia Night
DESCRIPTION: Join the Boston FoodCorps Alumni chapter&nbsp;next Wednesday night at the Boston Public Market for&nbsp;food-themed trivia!
END:VEVENT
END:VCALENDAR
