BEGIN:VCALENDAR
VERSION:2.0
PRODID:-//360 Alumni//FoodCorps//EN
METHOD:REQUEST
BEGIN:VEVENT
UID:4151
DTSTAMP:20180411T210000Z
DTSTART:20180411T210000Z
DTEND:20180411T230000Z
LOCATION:Globe Bar & Cafe
SUMMARY: Alumni/Service Member Mixer in Boston
DESCRIPTION: The MA FoodCorps service members have a spring training day in April and we&rsquo;ve&nbsp;been invited to a mixer in the evening. The service members have been asking for this type of event for a few months and are eager to get connected with local alums!&nbsp;
END:VEVENT
END:VCALENDAR
