BEGIN:VCALENDAR
VERSION:2.0
PRODID:-//360 Alumni//FoodCorps//EN
METHOD:REQUEST
BEGIN:VEVENT
UID:4267
DTSTAMP:20180426T213000Z
DTSTART:20180426T213000Z
DTEND:20180426T233000Z
LOCATION:Rock Bottom Brewery
SUMMARY: FoodCorps Happy Hour at National Farm to Cafeteria Conference
DESCRIPTION: If you are attending the National Farm to&nbsp;Cafeteria Conference in Cincinnati next week,&nbsp;please be sure to stop by the informal happy hour that we are organizing on&nbsp;Thursday, 4/26&nbsp;from&nbsp;5:30-7:30pm&nbsp;at Rock Bottom Brewery. It is a short walk from the convention center. Anyone and everyone affiliated with FoodCorps is invited, so please spread the word about this opportunity to connect! Light appetizers will be provided.&nbsp;*******Fine print: guests are responsible for their own drinks!&nbsp;
END:VEVENT
END:VCALENDAR
