BEGIN:VCALENDAR
VERSION:2.0
PRODID:-//360 Alumni//FoodCorps//EN
METHOD:REQUEST
BEGIN:VEVENT
UID:4451
DTSTAMP:20190120T080000Z
DTSTART:20190120T080000Z
DTEND:20190125T080000Z
LOCATION:Life Lab
SUMMARY: School Garden Support Organization Leadership Institute
DESCRIPTION: 2019 SGSO LEADERSHIP INSTITUTE
JANUARY 20-25, 2019&nbsp; &ndash;&nbsp; SANTA CRUZ, CA

APPLY HERE&nbsp;&ndash; APPLICATION CLOSES AUGUST 10, 2018 &ndash; APPLICANTS WILL NOTIFIED BY SEPTEMBER 10.

If you applied in previous years, and would like a copy of your previous application responses for reference, please email Julie Wilson at admin@lifelab.org.

WHO?

This Leadership Institute is designed for teams of 2 from School Garden Support Organizations (SGSOs). A SGSO may be a nonprofit organization, university, government agency, foundation, school district, or other entity focused specifically on supporting garden-based learning for&nbsp;multiple schools in their region. SGSOs work to elevate the quality and sustainability of school garden programs across their region, serving thousands of children each.

Each SGSO is invited to attend&nbsp;will&nbsp;send 2 key leaders to the Institute. We are particularly seeking&nbsp;SGSOs that:


	Have been actively supporting school gardens in their region for 8 years or fewer
	Primarily support elementary school gardens
	Have relevance with racially and economically diverse communities
	Have a primary focus on providing trainings for garden-based educators in their region, and
	Plan to host garden-based professional development&nbsp;for educators between February &ndash; June 2019


WHAT?

At the 5-day&nbsp;institute we will be working towards the following goals.


	Learn from one another about how we accomplish common Key SGSO Activities so that we can better our practice
	Make organizational&nbsp;sites plan for Professional&nbsp;Development and School Garden&nbsp;support
	Develop and update resources to share with a wider national audience


School Support Organization Key Activities


	Creating, Finding, Modifying, and Sequencing High Quality Lessons
	Sustaining School Garden Programs
	Designing Programs for Maximum Impact
	Networking and Communications to Support School Gardens
	Leading Excellent Garden-Based Education Professional Development
	Addressing Diversity, Inclusion and Equity in School Garden Programs


The institute will take place at Mission Springs Conference Center located in a Redwood forest near Santa Cruz, CA. Participants are responsible to&nbsp;pay their own travel expenses to/from San Jose or San Francisco Airport and a nominal fee* based on your organization&rsquo;s capacity.&nbsp;Lodging, meals, and airport-to-conference center transportation will be provided.

*Institute Fee &ndash; Suggested Sliding Scale


&nbsp;

Draft Institute Agenda
Sunday 1/20 &ndash;&nbsp;Arrival by 4pm Dinner, Meet and Greet
Monday 1/21 &ndash; Key Activity Discussions, Lunch and Tour Pacific Elementary FoodLab, Evening Fire
Tuesday 1/22 &ndash; Key Activity Discussions, Explore Downtown Santa Cruz for Dinner
Wednesday 1/23 &ndash; Best Practices in Professional Development at the Life Lab Garden Classroom on the UC Santa Cruz Farm
Thursday 1/24 &ndash;&nbsp;Team Planning Time, Open Space, Networking Dinner with Local School Garden Leaders
Friday 1/25 &ndash;&nbsp;Departure by Lunchtime

WHY?

School gardens have tremendous lifelong benefits for children. Research has shown that when children participate in a school garden program, they show marked improvement in healthy eating; social emotional skills; environmental attitudes; scientific achievement; and attitudes toward learning (www.lifelab.org/whyschoolgardens).

But school garden programs need support in order to unlock their full potential. Without well-trained educators, strong curriculum, and supportive networks, garden programs often become underutilized or even forgotten. With support, however, they thrive, become institutionalized into school cultures, and inspire children for decades.

Regional School Garden Support Organizations have emerged as a key determinant in the success of school garden programs across the country. This Institute is designed to provide SGSO leaders with the inspiration and information they need to effectively support school garden programs in their regions, and to share best practices with other SGSOs nationally.

&nbsp;

View what took place at our&nbsp;2018 School Garden Support Organization Institute.

View what took place at our&nbsp;2016 School Garden Support Organization Institute.

&nbsp;

JOIN THE SCHOOL GARDEN SUPPORT ORGANIZATION NETWORK E-LIST&nbsp;TO BE PART OF A NATIONAL DIALOGUE OF SCHOOL GARDEN SUPPORT ORGANIZATIONS.
END:VEVENT
END:VCALENDAR
