BEGIN:VCALENDAR
VERSION:2.0
PRODID:-//360 Alumni//FoodCorps//EN
METHOD:REQUEST
BEGIN:VEVENT
UID:4659
DTSTAMP:20180925T180000Z
DTSTART:20180925T180000Z
DTEND:20180925T190000Z
LOCATION:online event
SUMMARY: Your Career & Your FoodCorps Network
DESCRIPTION: Your Career &amp; Your Network Webinar, September 25 at 11-12pm PT 

Your service year will be a formative time in your career. We hope you use this year to learn, grow and discover passions that will help you determine your path in life. FoodCorps provides you with many resources to help you do that. This webinar will walk you through career development resources on the Toolshed and FoodCorps Connect. We&rsquo;ll also share our Career Development Trainings Calendar for the year and give you some tips for using your service to explore different paths.


	
	To join the webinar follow this link: foodcorps.webex.com/meet/collard 
	


If you don&rsquo;t have access to a computer, you can listen in here: (240) 454-0879, 803 913 503#
END:VEVENT
END:VCALENDAR
